BEGIN:VCALENDAR
VERSION:2.0
PRODID:SchoolNow
CALSCALE:GREGORIAN
BEGIN:VEVENT
UID:25184ede-5659-11ee-a611-0a58a9feac02
DTSTAMP:20230918T192536Z
SUMMARY:7th & 8th grade Girls Basketball Try-Outs
LOCATION:APMS Main Gym
URL;VALUE=URI:https://www.arbor145.org/apms/calendar/4754941/7th-8th-grade-
 girls-basketball-try-outs
DTSTART:20230928T193000Z
DTEND:20230928T210000Z
END:VEVENT
END:VCALENDAR
