BEGIN:VCALENDAR
VERSION:2.0
PRODID:SchoolNow
CALSCALE:GREGORIAN
BEGIN:VEVENT
UID:2a3440f8-5659-11ee-b9b6-025a290185c1
DTSTAMP:20230918T192545Z
SUMMARY:Science Club
LOCATION:APMS A132
URL;VALUE=URI:https://www.arbor145.org/apms/calendar/4754942/science-club
DTSTART:20240312T193000Z
DTEND:20240312T201500Z
END:VEVENT
END:VCALENDAR
