BEGIN:VCALENDAR
VERSION:2.0
PRODID:SchoolNow
CALSCALE:GREGORIAN
BEGIN:VEVENT
UID:466ec4a0-5659-11ee-95f2-0a58a9feac02
DTSTAMP:20230918T192632Z
SUMMARY:7th & 8th grade Girls Basketball Try-Outs
LOCATION:APMS Main Gym
URL;VALUE=URI:https://www.arbor145.org/apms/calendar/4754943/7th-8th-grade-
 girls-basketball-try-outs
DTSTART:20230929T193000Z
DTEND:20230929T210000Z
END:VEVENT
END:VCALENDAR
