BEGIN:VCALENDAR
VERSION:2.0
PRODID:SchoolNow
CALSCALE:GREGORIAN
BEGIN:VEVENT
UID:5121750a-5659-11ee-95fa-0e735600cc31
DTSTAMP:20230918T192650Z
SUMMARY:Science Club
LOCATION:APMS A132
URL;VALUE=URI:https://www.arbor145.org/apms/calendar/4754944/science-club
DTSTART:20240409T193000Z
DTEND:20240409T201500Z
END:VEVENT
END:VCALENDAR
