BEGIN:VCALENDAR
VERSION:2.0
PRODID:SchoolNow
CALSCALE:GREGORIAN
BEGIN:VEVENT
UID:7a39e1ac-5659-11ee-b9aa-0292f1505fe5
DTSTAMP:20230918T192759Z
SUMMARY:Science Club
LOCATION:APMS A132
URL;VALUE=URI:https://www.arbor145.org/apms/calendar/4754945/science-club
DTSTART:20240423T193000Z
DTEND:20240423T201500Z
END:VEVENT
END:VCALENDAR
