BEGIN:VCALENDAR
VERSION:2.0
PRODID:SchoolNow
CALSCALE:GREGORIAN
BEGIN:VEVENT
UID:ab04d10c-5659-11ee-b460-02774828289f
DTSTAMP:20230918T192921Z
SUMMARY:Science Club
LOCATION:APMS A132
URL;VALUE=URI:https://www.arbor145.org/apms/calendar/4754946/science-club
DTSTART:20240507T193000Z
DTEND:20240507T201500Z
END:VEVENT
END:VCALENDAR
