BEGIN:VCALENDAR
VERSION:2.0
PRODID:SchoolNow
CALSCALE:GREGORIAN
BEGIN:VEVENT
UID:69ae80dc-57e8-11ee-9ff0-0a58a9feac02
DTSTAMP:20230920T190341Z
SUMMARY:Optional Event Step-Up Night w/Oak Forest H.S. (8th grade Band stud
 ents)
LOCATION:Oak Forest H.S.
URL;VALUE=URI:https://www.arbor145.org/apms/calendar/4766622/optional-event
 -step-up-night-w-oak-forest-h-s-8th-grade-band-students
DTSTART:20231019T204500Z
DTEND:20231019T214500Z
END:VEVENT
END:VCALENDAR
