BEGIN:VCALENDAR
VERSION:2.0
PRODID:SchoolNow
CALSCALE:GREGORIAN
BEGIN:VEVENT
UID:ea8435bc-57e8-11ee-81e7-0a58a9feac02
DTSTAMP:20230920T190717Z
SUMMARY:December concert-All Bands & Panther Choir
LOCATION:APMS Big Gym
URL;VALUE=URI:https://www.arbor145.org/apms/calendar/4766631/december-conce
 rt-all-bands-panther-choir
DTSTART:20231215T010000Z
DTEND:20231215T020000Z
END:VEVENT
END:VCALENDAR
