BEGIN:VCALENDAR
VERSION:2.0
PRODID:SchoolNow
CALSCALE:GREGORIAN
BEGIN:VEVENT
UID:a397acdc-57e9-11ee-8ddd-0ad554c62dc1
DTSTAMP:20230920T191227Z
SUMMARY:Optional Event-Band & Choir Students-District 228 Solo & Ensemble F
 estival
LOCATION:Bremen H.S.
URL;VALUE=URI:https://www.arbor145.org/apms/calendar/4766644/optional-event
 -band-choir-students-district-228-solo-ensemble-festival
DTSTART:20240302T140000Z
DTEND:20240302T210000Z
END:VEVENT
END:VCALENDAR
