BEGIN:VCALENDAR
VERSION:2.0
PRODID:SchoolNow
CALSCALE:GREGORIAN
BEGIN:VEVENT
UID:e32a181c-57e9-11ee-8bdb-0aab678d0845
DTSTAMP:20230920T191414Z
SUMMARY:SSJHSC Band Festival
LOCATION:APMS Big Gym
URL;VALUE=URI:https://www.arbor145.org/apms/calendar/4766650/ssjhsc-band-fe
 stival
DTSTART:20240306T224500Z
DTEND:20240307T023000Z
END:VEVENT
END:VCALENDAR
