BEGIN:VCALENDAR
VERSION:2.0
PRODID:SchoolNow
CALSCALE:GREGORIAN
BEGIN:VEVENT
UID:14cb429c-57ea-11ee-aa0b-0a58a9feac02
DTSTAMP:20230920T191537Z
SUMMARY:March Concert- All Bands\, & Panther Choir
LOCATION:APMS Big Gym
URL;VALUE=URI:https://www.arbor145.org/apms/calendar/4766656/march-concert-
 all-bands-panther-choir
DTSTART:20240315T000000Z
DTEND:20240315T010000Z
END:VEVENT
END:VCALENDAR
