BEGIN:VCALENDAR
VERSION:2.0
PRODID:SchoolNow
CALSCALE:GREGORIAN
BEGIN:VEVENT
UID:33ce436a-57ea-11ee-8f37-0ad554c62dc1
DTSTAMP:20230920T191629Z
SUMMARY:May Concert-All Bands & Panther Choir
LOCATION:APMS Big Gym
URL;VALUE=URI:https://www.arbor145.org/apms/calendar/4766659/may-concert-al
 l-bands-panther-choir
DTSTART:20240509T230000Z
DTEND:20240510T000000Z
END:VEVENT
END:VCALENDAR
