BEGIN:VCALENDAR
VERSION:2.0
PRODID:SchoolNow
CALSCALE:GREGORIAN
BEGIN:VEVENT
UID:8a8a6544-57ea-11ee-a49a-0a58a9feac02
DTSTAMP:20230920T191855Z
SUMMARY:Current 5th-7th graders-Band Signup Night for Incoming 6th-8th grad
 ers
LOCATION:APMS Cafeteria
URL;VALUE=URI:https://www.arbor145.org/apms/calendar/4766662/current-5th-7t
 h-graders-band-signup-night-for-incoming-6th-8th-graders
DTSTART:20240516T230000Z
DTEND:20240517T000000Z
END:VEVENT
END:VCALENDAR
