BEGIN:VCALENDAR
VERSION:2.0
PRODID:SchoolNow
CALSCALE:GREGORIAN
BEGIN:VEVENT
UID:14962aa2-57eb-11ee-a671-0a58a9feac02
DTSTAMP:20230920T192246Z
SUMMARY:ILMEA District 1 Junior Concert Festival
LOCATION:Unity Junior H.S.
URL;VALUE=URI:https://www.arbor145.org/apms/calendar/4766676/ilmea-district
 -1-junior-concert-festival
DTSTART:20231104T200000Z
DTEND:20231104T210000Z
END:VEVENT
END:VCALENDAR
