BEGIN:VCALENDAR
VERSION:2.0
PRODID:SchoolNow
CALSCALE:GREGORIAN
BEGIN:VEVENT
UID:06bb2c8c-58ba-11ee-aa6f-0aeab99ef361
DTSTAMP:20230921T200409Z
SUMMARY:Science Club
LOCATION:A132
URL;VALUE=URI:https://www.arbor145.org/apms/calendar/4774485/science-club
DTSTART:20231219T203000Z
DTEND:20231219T211500Z
END:VEVENT
END:VCALENDAR
