BEGIN:VCALENDAR
VERSION:2.0
PRODID:SchoolNow
CALSCALE:GREGORIAN
BEGIN:VEVENT
UID:8141d6b6-58bc-11ee-a802-0a58a9feac02
DTSTAMP:20230921T202154Z
SUMMARY:Chess Club
LOCATION:A002
URL;VALUE=URI:https://www.arbor145.org/apms/calendar/4774500/chess-club
DTSTART:20231003T193000Z
DTEND:20231003T200000Z
END:VEVENT
END:VCALENDAR
