BEGIN:VCALENDAR
VERSION:2.0
PRODID:SchoolNow
CALSCALE:GREGORIAN
BEGIN:VEVENT
UID:9aca2cdc-58bc-11ee-8840-0a58a9feac02
DTSTAMP:20230921T202336Z
SUMMARY:Chess Club
LOCATION:A002
URL;VALUE=URI:https://www.arbor145.org/apms/calendar/4774501/chess-club
DTSTART:20231010T191500Z
DTEND:20231010T200000Z
END:VEVENT
END:VCALENDAR
