BEGIN:VCALENDAR
VERSION:2.0
PRODID:SchoolNow
CALSCALE:GREGORIAN
BEGIN:VEVENT
UID:b98d2db8-58bc-11ee-9422-023a4f903f9f
DTSTAMP:20230921T202328Z
SUMMARY:Chess Club
LOCATION:A002
URL;VALUE=URI:https://www.arbor145.org/apms/calendar/4774502/chess-club
DTSTART:20231017T193000Z
DTEND:20231017T200000Z
END:VEVENT
END:VCALENDAR
