BEGIN:VCALENDAR
VERSION:2.0
PRODID:SchoolNow
CALSCALE:GREGORIAN
BEGIN:VEVENT
UID:d2a4d594-58bc-11ee-97bd-0a58a9feac02
DTSTAMP:20230921T202410Z
SUMMARY:Chess Club
LOCATION:A002
URL;VALUE=URI:https://www.arbor145.org/apms/calendar/4774503/chess-club
DTSTART:20231024T193000Z
DTEND:20231024T200000Z
END:VEVENT
END:VCALENDAR
