BEGIN:VCALENDAR
VERSION:2.0
PRODID:SchoolNow
CALSCALE:GREGORIAN
BEGIN:VEVENT
UID:75d2ddd8-58bd-11ee-9940-0a58a9feac02
DTSTAMP:20230921T202844Z
SUMMARY:Chess Club
LOCATION:A002
URL;VALUE=URI:https://www.arbor145.org/apms/calendar/4774513/chess-club
DTSTART:20231031T193000Z
DTEND:20231031T200000Z
END:VEVENT
END:VCALENDAR
