BEGIN:VCALENDAR
VERSION:2.0
PRODID:SchoolNow
CALSCALE:GREGORIAN
BEGIN:VEVENT
UID:85e18382-58bd-11ee-acfa-0a58a9feac02
DTSTAMP:20230921T202957Z
SUMMARY:Chess Club
LOCATION:A002
URL;VALUE=URI:https://www.arbor145.org/apms/calendar/4774514/chess-club
DTSTART:20231107T201500Z
DTEND:20231107T210000Z
END:VEVENT
END:VCALENDAR
