BEGIN:VCALENDAR
VERSION:2.0
PRODID:SchoolNow
CALSCALE:GREGORIAN
BEGIN:VEVENT
UID:9a9bb9b4-58bd-11ee-9957-0ebdbe616609
DTSTAMP:20230921T202946Z
SUMMARY:Chess Club
LOCATION:A002
URL;VALUE=URI:https://www.arbor145.org/apms/calendar/4774515/chess-club
DTSTART:20231114T203000Z
DTEND:20231114T210000Z
END:VEVENT
END:VCALENDAR
