BEGIN:VCALENDAR
VERSION:2.0
PRODID:SchoolNow
CALSCALE:GREGORIAN
BEGIN:VEVENT
UID:c7ea05c4-58bd-11ee-90d6-0a58a9feac02
DTSTAMP:20230921T203102Z
SUMMARY:Chess Club
LOCATION:A002
URL;VALUE=URI:https://www.arbor145.org/apms/calendar/4774527/chess-club
DTSTART:20231128T203000Z
DTEND:20231128T211500Z
END:VEVENT
END:VCALENDAR
