BEGIN:VCALENDAR
VERSION:2.0
PRODID:SchoolNow
CALSCALE:GREGORIAN
BEGIN:VEVENT
UID:5151b640-58be-11ee-a864-0a58a9feac02
DTSTAMP:20230921T203452Z
SUMMARY:Chess Club
LOCATION:A002
URL;VALUE=URI:https://www.arbor145.org/apms/calendar/4774529/chess-club
DTSTART:20231212T203000Z
DTEND:20231212T210000Z
END:VEVENT
END:VCALENDAR
