BEGIN:VCALENDAR
VERSION:2.0
PRODID:SchoolNow
CALSCALE:GREGORIAN
BEGIN:VEVENT
UID:66ab5550-58be-11ee-a1ce-0ec9f26cdb77
DTSTAMP:20230921T203528Z
SUMMARY:Chess Club
LOCATION:A002
URL;VALUE=URI:https://www.arbor145.org/apms/calendar/4774572/chess-club
DTSTART:20231219T203000Z
DTEND:20231219T210000Z
END:VEVENT
END:VCALENDAR
