BEGIN:VCALENDAR
VERSION:2.0
PRODID:SchoolNow
CALSCALE:GREGORIAN
BEGIN:VEVENT
UID:7f258df8-58be-11ee-bea2-023a4f903f9f
DTSTAMP:20230921T203609Z
SUMMARY:Chess Club
LOCATION:A002
URL;VALUE=URI:https://www.arbor145.org/apms/calendar/4774640/chess-club
DTSTART:20240109T203000Z
DTEND:20240109T210000Z
END:VEVENT
END:VCALENDAR
