BEGIN:VCALENDAR
VERSION:2.0
PRODID:SchoolNow
CALSCALE:GREGORIAN
BEGIN:VEVENT
UID:a6e4c35e-58be-11ee-8be6-0ec9f26cdb77
DTSTAMP:20230921T203716Z
SUMMARY:Chess Club
LOCATION:A002
URL;VALUE=URI:https://www.arbor145.org/apms/calendar/4775718/chess-club
DTSTART:20240123T203000Z
DTEND:20240123T210000Z
END:VEVENT
END:VCALENDAR
