BEGIN:VCALENDAR
VERSION:2.0
PRODID:SchoolNow
CALSCALE:GREGORIAN
BEGIN:VEVENT
UID:b603faa8-58be-11ee-8b95-0a58a9feac02
DTSTAMP:20230921T203741Z
SUMMARY:Chess Club
LOCATION:A002
URL;VALUE=URI:https://www.arbor145.org/apms/calendar/4775719/chess-club
DTSTART:20240130T203000Z
DTEND:20240130T210000Z
END:VEVENT
END:VCALENDAR
