BEGIN:VCALENDAR
VERSION:2.0
PRODID:SchoolNow
CALSCALE:GREGORIAN
BEGIN:VEVENT
UID:c8fca074-58be-11ee-b158-023a4f903f9f
DTSTAMP:20230921T203813Z
SUMMARY:Chess Club
LOCATION:A002
URL;VALUE=URI:https://www.arbor145.org/apms/calendar/4775720/chess-club
DTSTART:20240206T203000Z
DTEND:20240206T210000Z
END:VEVENT
END:VCALENDAR
