BEGIN:VCALENDAR
VERSION:2.0
PRODID:SchoolNow
CALSCALE:GREGORIAN
BEGIN:VEVENT
UID:d66a18e0-58be-11ee-87e0-0a58a9feac02
DTSTAMP:20230921T203835Z
SUMMARY:Chess Club
LOCATION:A002
URL;VALUE=URI:https://www.arbor145.org/apms/calendar/4775721/chess-club
DTSTART:20240213T203000Z
DTEND:20240213T210000Z
END:VEVENT
END:VCALENDAR
