BEGIN:VCALENDAR
VERSION:2.0
PRODID:SchoolNow
CALSCALE:GREGORIAN
BEGIN:VEVENT
UID:e4ef4cbe-58be-11ee-badb-021785ed0d57
DTSTAMP:20230921T203900Z
SUMMARY:Chess Club
LOCATION:A002
URL;VALUE=URI:https://www.arbor145.org/apms/calendar/4775722/chess-club
DTSTART:20240220T203000Z
DTEND:20240220T210000Z
END:VEVENT
END:VCALENDAR
