BEGIN:VCALENDAR
VERSION:2.0
PRODID:SchoolNow
CALSCALE:GREGORIAN
BEGIN:VEVENT
UID:ff4ff05e-58be-11ee-a559-0eb9ace05e0d
DTSTAMP:20230921T203944Z
SUMMARY:Chess Club
LOCATION:A002
URL;VALUE=URI:https://www.arbor145.org/apms/calendar/4775725/chess-club
DTSTART:20240227T203000Z
DTEND:20240227T210000Z
END:VEVENT
END:VCALENDAR
