BEGIN:VCALENDAR
VERSION:2.0
PRODID:SchoolNow
CALSCALE:GREGORIAN
BEGIN:VEVENT
UID:18c71080-58bf-11ee-b6f3-0a58a9feac02
DTSTAMP:20230921T204027Z
SUMMARY:Chess Club
LOCATION:A002
URL;VALUE=URI:https://www.arbor145.org/apms/calendar/4775726/chess-club
DTSTART:20240305T203000Z
DTEND:20240305T210000Z
END:VEVENT
END:VCALENDAR
