BEGIN:VCALENDAR
VERSION:2.0
PRODID:SchoolNow
CALSCALE:GREGORIAN
BEGIN:VEVENT
UID:2a8e7ed4-58bf-11ee-b38b-023a4f903f9f
DTSTAMP:20230921T204057Z
SUMMARY:Chess Club
LOCATION:A002
URL;VALUE=URI:https://www.arbor145.org/apms/calendar/4775727/chess-club
DTSTART:20240312T193000Z
DTEND:20240312T200000Z
END:VEVENT
END:VCALENDAR
