BEGIN:VCALENDAR
VERSION:2.0
PRODID:SchoolNow
CALSCALE:GREGORIAN
BEGIN:VEVENT
UID:3a13c986-58bf-11ee-acd2-0a58a9feac02
DTSTAMP:20230921T204123Z
SUMMARY:Chess Club
LOCATION:A002
URL;VALUE=URI:https://www.arbor145.org/apms/calendar/4775728/chess-club
DTSTART:20240319T193000Z
DTEND:20240319T200000Z
END:VEVENT
END:VCALENDAR
