BEGIN:VCALENDAR
VERSION:2.0
PRODID:SchoolNow
CALSCALE:GREGORIAN
BEGIN:VEVENT
UID:4efff6bc-58bf-11ee-975c-0a58a9feac02
DTSTAMP:20230921T204158Z
SUMMARY:Chess Club
LOCATION:A002
URL;VALUE=URI:https://www.arbor145.org/apms/calendar/4775729/chess-club
DTSTART:20240402T193000Z
DTEND:20240402T200000Z
END:VEVENT
END:VCALENDAR
