BEGIN:VCALENDAR
VERSION:2.0
PRODID:SchoolNow
CALSCALE:GREGORIAN
BEGIN:VEVENT
UID:6556b81a-58bf-11ee-b3db-0a58a9feac02
DTSTAMP:20230921T204235Z
SUMMARY:Chess Club
LOCATION:A002
URL;VALUE=URI:https://www.arbor145.org/apms/calendar/4775730/chess-club
DTSTART:20240409T193000Z
DTEND:20240409T200000Z
END:VEVENT
END:VCALENDAR
