BEGIN:VCALENDAR
VERSION:2.0
PRODID:SchoolNow
CALSCALE:GREGORIAN
BEGIN:VEVENT
UID:83b5cfd0-58bf-11ee-b3bf-0a58a9feac02
DTSTAMP:20230921T204326Z
SUMMARY:Chess Club
LOCATION:A002
URL;VALUE=URI:https://www.arbor145.org/apms/calendar/4775732/chess-club
DTSTART:20240423T193000Z
DTEND:20240423T200000Z
END:VEVENT
END:VCALENDAR
