BEGIN:VCALENDAR
VERSION:2.0
PRODID:SchoolNow
CALSCALE:GREGORIAN
BEGIN:VEVENT
UID:9482e76c-58bf-11ee-8b3b-027e9799d105
DTSTAMP:20230921T204354Z
SUMMARY:Chess Club
LOCATION:A002
URL;VALUE=URI:https://www.arbor145.org/apms/calendar/4775733/chess-club
DTSTART:20240430T193000Z
DTEND:20240430T200000Z
END:VEVENT
END:VCALENDAR
