BEGIN:VCALENDAR
VERSION:2.0
PRODID:SchoolNow
CALSCALE:GREGORIAN
BEGIN:VEVENT
UID:dac95c88-58bf-11ee-ae2f-0efaf08bf7f9
DTSTAMP:20230921T204552Z
SUMMARY:Chess Club
LOCATION:A002
URL;VALUE=URI:https://www.arbor145.org/apms/calendar/4775734/chess-club
DTSTART:20240507T193000Z
DTEND:20240507T200000Z
END:VEVENT
END:VCALENDAR
