BEGIN:VCALENDAR
VERSION:2.0
PRODID:SchoolNow
CALSCALE:GREGORIAN
BEGIN:VEVENT
UID:e8cacdbc-58bf-11ee-97c4-0a58a9feac02
DTSTAMP:20230921T204616Z
SUMMARY:Chess Club
LOCATION:A002
URL;VALUE=URI:https://www.arbor145.org/apms/calendar/4775735/chess-club
DTSTART:20240514T193000Z
DTEND:20240514T200000Z
END:VEVENT
END:VCALENDAR
