BEGIN:VCALENDAR
VERSION:2.0
PRODID:SchoolNow
CALSCALE:GREGORIAN
BEGIN:VEVENT
UID:fbe91d2c-58bf-11ee-b313-0a58a9feac02
DTSTAMP:20230921T204648Z
SUMMARY:Chess Club
LOCATION:A002
URL;VALUE=URI:https://www.arbor145.org/apms/calendar/4775736/chess-club
DTSTART:20240521T193000Z
DTEND:20240521T200000Z
END:VEVENT
END:VCALENDAR
