BEGIN:VCALENDAR
VERSION:2.0
PRODID:SchoolNow
CALSCALE:GREGORIAN
BEGIN:VEVENT
UID:107c0f6a-58c0-11ee-8785-0a58a9feac02
DTSTAMP:20230921T204722Z
SUMMARY:Chess Club
LOCATION:A002
URL;VALUE=URI:https://www.arbor145.org/apms/calendar/4775737/chess-club
DTSTART:20240528T193000Z
DTEND:20240528T200000Z
END:VEVENT
END:VCALENDAR
