BEGIN:VCALENDAR
VERSION:2.0
PRODID:SchoolNow
CALSCALE:GREGORIAN
BEGIN:VEVENT
UID:b95698a0-5d64-11ee-8471-0a58a9feac02
DTSTAMP:20230927T190539Z
SUMMARY:Advanced Band Practice
LOCATION:B101
URL;VALUE=URI:https://www.arbor145.org/apms/calendar/4802110/advanced-band
DTSTART:20231002T193000Z
DTEND:20231002T201500Z
END:VEVENT
END:VCALENDAR
