BEGIN:VCALENDAR
VERSION:2.0
PRODID:SchoolNow
CALSCALE:GREGORIAN
BEGIN:VEVENT
UID:e6efca70-5d64-11ee-a09c-0a58a9feac02
DTSTAMP:20230927T190546Z
SUMMARY:Advanced Band Practice
LOCATION:B101
URL;VALUE=URI:https://www.arbor145.org/apms/calendar/4802111/advanced-band
DTSTART:20231016T193000Z
DTEND:20231016T201500Z
END:VEVENT
END:VCALENDAR
