BEGIN:VCALENDAR
VERSION:2.0
PRODID:SchoolNow
CALSCALE:GREGORIAN
BEGIN:VEVENT
UID:24061284-5d65-11ee-b822-0a58a9feac02
DTSTAMP:20230927T190554Z
SUMMARY:Advanced Band Practice
LOCATION:B101
URL;VALUE=URI:https://www.arbor145.org/apms/calendar/4802113/advanced-band
DTSTART:20231023T193000Z
DTEND:20231023T201500Z
END:VEVENT
END:VCALENDAR
