BEGIN:VCALENDAR
VERSION:2.0
PRODID:SchoolNow
CALSCALE:GREGORIAN
BEGIN:VEVENT
UID:360f6f02-5d65-11ee-8c68-0a58a9feac02
DTSTAMP:20230927T190602Z
SUMMARY:Advanced Band Practice
LOCATION:B101
URL;VALUE=URI:https://www.arbor145.org/apms/calendar/4802114/advanced-band
DTSTART:20231030T193000Z
DTEND:20231030T201500Z
END:VEVENT
END:VCALENDAR
