BEGIN:VCALENDAR
VERSION:2.0
PRODID:SchoolNow
CALSCALE:GREGORIAN
BEGIN:VEVENT
UID:c18fca72-5d65-11ee-8741-0a58a9feac02
DTSTAMP:20230927T190619Z
SUMMARY:Advanced Band Practice
LOCATION:B101
URL;VALUE=URI:https://www.arbor145.org/apms/calendar/4802123/advanced-band
DTSTART:20231106T203000Z
DTEND:20231106T211500Z
END:VEVENT
END:VCALENDAR
