BEGIN:VCALENDAR
VERSION:2.0
PRODID:SchoolNow
CALSCALE:GREGORIAN
BEGIN:VEVENT
UID:d73d5a9c-5d65-11ee-bebf-0a58a9feac02
DTSTAMP:20230927T190637Z
SUMMARY:Advanced Band Practice
LOCATION:B101
URL;VALUE=URI:https://www.arbor145.org/apms/calendar/4802125/advanced-band
DTSTART:20231113T203000Z
DTEND:20231113T211500Z
END:VEVENT
END:VCALENDAR
