BEGIN:VCALENDAR
VERSION:2.0
PRODID:SchoolNow
CALSCALE:GREGORIAN
BEGIN:VEVENT
UID:e5b7e1fa-5d65-11ee-af43-02e5861b2049
DTSTAMP:20230927T190644Z
SUMMARY:Advanced Band Practice
LOCATION:B101
URL;VALUE=URI:https://www.arbor145.org/apms/calendar/4802127/advanced-band
DTSTART:20231127T203000Z
DTEND:20231127T211500Z
END:VEVENT
END:VCALENDAR
